BEGIN:VCALENDAR
VERSION:2.0
PRODID:icalendar-ruby
CALSCALE:GREGORIAN
METHOD:PUBLISH
BEGIN:VTIMEZONE
TZID:America/Indiana/Indianapolis
BEGIN:DAYLIGHT
DTSTART:20260308T030000
TZOFFSETFROM:-0500
TZOFFSETTO:-0400
RRULE:FREQ=YEARLY;BYDAY=2SU;BYMONTH=3
TZNAME:EDT
END:DAYLIGHT
BEGIN:STANDARD
DTSTART:20261101T010000
TZOFFSETFROM:-0400
TZOFFSETTO:-0500
RRULE:FREQ=YEARLY;BYDAY=1SU;BYMONTH=11
TZNAME:EST
END:STANDARD
END:VTIMEZONE
BEGIN:VEVENT
DTSTAMP:20260420T122541Z
UID:3d8b15af-932c-47c3-824d-264bfdbcff5d
DTSTART;TZID=America/Indiana/Indianapolis:20260509T090000
DTEND;TZID=America/Indiana/Indianapolis:20260509T150000
DESCRIPTION: Riders Rescue Motorcycle First Response Training for the gener
 al public. . . . . . . . . Bikersinc is hosting a Two Wheel Trauma Motorcyc
 le First Response Training session. This specific class is for Level 1 stud
 ents\, this is our basic class. This class will teach you the basics of wha
 t to do if an accident happens and how to help until EMS arrives. Course in
 struction is provided by an national ...
LOCATION:1761 N Sherman Dr\, Indianapolis\, IN 46218\, USA
SUMMARY:Motorcycle First Response Training • Indianapolis\, IN
URL:http://www.ridersrescue.org/events/level-1-indy-5-9-26
END:VEVENT
END:VCALENDAR
